BEGIN:VCALENDAR
VERSION:2.0
PRODID:-//ProFormance Racing School - ECPv6.15.20//NONSGML v1.0//EN
CALSCALE:GREGORIAN
METHOD:PUBLISH
X-WR-CALNAME:ProFormance Racing School
X-ORIGINAL-URL:https://proformanceracingschool.com
X-WR-CALDESC:Events for ProFormance Racing School
REFRESH-INTERVAL;VALUE=DURATION:PT1H
X-Robots-Tag:noindex
X-PUBLISHED-TTL:PT1H
BEGIN:VTIMEZONE
TZID:America/Los_Angeles
BEGIN:DAYLIGHT
TZOFFSETFROM:-0800
TZOFFSETTO:-0700
TZNAME:PDT
DTSTART:20250309T100000
END:DAYLIGHT
BEGIN:STANDARD
TZOFFSETFROM:-0700
TZOFFSETTO:-0800
TZNAME:PST
DTSTART:20251102T090000
END:STANDARD
BEGIN:DAYLIGHT
TZOFFSETFROM:-0800
TZOFFSETTO:-0700
TZNAME:PDT
DTSTART:20260308T100000
END:DAYLIGHT
BEGIN:STANDARD
TZOFFSETFROM:-0700
TZOFFSETTO:-0800
TZNAME:PST
DTSTART:20261101T090000
END:STANDARD
BEGIN:DAYLIGHT
TZOFFSETFROM:-0800
TZOFFSETTO:-0700
TZNAME:PDT
DTSTART:20270314T100000
END:DAYLIGHT
BEGIN:STANDARD
TZOFFSETFROM:-0700
TZOFFSETTO:-0800
TZNAME:PST
DTSTART:20271107T090000
END:STANDARD
END:VTIMEZONE
BEGIN:VEVENT
DTSTART;TZID=America/Los_Angeles:20260801T120000
DTEND;TZID=America/Los_Angeles:20260801T160000
DTSTAMP:20260424T053310
CREATED:20260116T024257Z
LAST-MODIFIED:20260116T024538Z
UID:10002238-1785585600-1785600000@proformanceracingschool.com
SUMMARY:Special Event High Performance Sport Lapping
DESCRIPTION:Special Event High Performance Sport Lapping Participation Requirements\nThe standard discount has already been applied to this event. No special codes are needed. \n\nPrior Experience Required: All drivers must hold a ProFormance Solo Sport Driving License or equivalent to Pacific Raceways\nSolo Only: In-car instruction will not be available. Must hold a ProFormance Solo Sport Driving License or have equivalent experience at Pacific Raceways; contact us to verify if your experience qualifies.\n\nRun Groups:\nIf you’re unsure which group to join\, simply sign up\, and we’ll adjust your placement if necessary. \n\nAdvanced: 11+ track days at Pacific Raceways and/or high-horsepower cars\nHigh Intermediate: 5-10+ track days at Pacific Raceways and/or medium-horsepower cars\nIntermediate: 5 or fewer track days at Pacific Raceways and/or lower-horsepower cars\n\nEach group will have three sessions\, with 20-25 minutes per session. \n\n\nProFormance does not allow passengers on the track. This is a national safety standard driven by our insurance carrier and our professional approach.
URL:https://proformanceracingschool.com/event/special-event-high-performance-sport-lapping/
LOCATION:Pacific Raceways\, 31001 144th Ave SE\, Kent\, WA\, 98042\, United States
CATEGORIES:Special Event
ATTACH;FMTTYPE=image/png:https://proformanceracingschool.com/wp-content/uploads/2024/10/Available-1-1.png
ORGANIZER;CN="ProFormance Racing School":MAILTO:donna@proformanceracingschool.com
GEO:47.322243;-122.149386
X-APPLE-STRUCTURED-LOCATION;VALUE=URI;X-ADDRESS=Pacific Raceways 31001 144th Ave SE Kent WA 98042 United States;X-APPLE-RADIUS=500;X-TITLE=31001 144th Ave SE:geo:-122.149386,47.322243
END:VEVENT
BEGIN:VEVENT
DTSTART;TZID=America/Los_Angeles:20260814T080000
DTEND;TZID=America/Los_Angeles:20260814T160000
DTSTAMP:20260424T053310
CREATED:20260114T015758Z
LAST-MODIFIED:20260114T022656Z
UID:10002156-1786694400-1786723200@proformanceracingschool.com
SUMMARY:Lapping Day - High Performance Sport Lapping All Day or 1/2 Day Option
DESCRIPTION:AM High Performance Sport Lapping\n\nPrerequisite: Lapping day at Pacific Raceways or equivalent in the past year. Must hold a ProFormance Solo Sport Driving License or have equivalent experience at Pacific Raceways; contact us to verify if your experience qualifies. \n\n\n\n\nCheck in: 8:00 am\nDrivers Meeting: 8:30 am\nOn-Track Lapping: 9:00 am to 12:00 pm\n\n\n\n\n\n\nCost: $299.00\n\nNote: 45 minutes’ coaching is required for all students who are back for the first time from the One-Day High Performance Driving Experience or equivalent. This is an additional $150.00 for a 45-minute session (making your order total $449.00). Our helmets are available for your use free of charge during your solo upgrade session. \n\n\n\n\nPM High Performance Sport Lapping\n\n\n\nPrerequisite: Lapping day at Pacific Raceways or equivalent in the past year. Must hold a ProFormance Solo Sport Driving License or have equivalent experience at Pacific Raceways; contact us to verify if your experience qualifies. \n\nCheck in: 11:30 am\nDrivers Meeting: 12:00 pm\nOn-Track Lapping: 12:30 pm to 4:00 pm\n\nCost: $299.00\n\nNote: 45 minutes’ coaching is required for all students who are back for the first time from the One-Day High Performance Driving Experience or equivalent. This is an additional $150.00 for a 45-minute session (making your order total $449.00). Our helmets are available for your use free of charge during your solo upgrade session. \n\n\n\n\n\n\nFull Day High Performance Sport Lapping\n\n\n\n\n\n\nPrerequisite: Lapping day at Pacific Raceways or equivalent in the past year. Must hold a ProFormance Solo Sport Driving License or have equivalent experience at Pacific Raceways; contact us to verify if your experience qualifies. \n\nCheck in: 8:00 am\nDrivers Meeting: 8:30 am\nOn-Track Lapping: 9:00 am to 4:00 pm (lunch break between 12:00 pm to 12:30 pm)\n\nCost: $419.00\n\n\n\n\n \n\n\n\n\n\n\nTo learn more about highlights of driving guidelines to be covered in our meeting\, logbooks\, pre-lapping checklist\, and Solo Sport Driving License\, please visit our Lapping Session page. \n\n\n\n\n\n\n\n\n\nCancellations: We require 8 days’ notice for cancellation. Failure to notify our office\, either by call\, email\, or text\, before 8 days from your scheduled date\, will result in forfeiture of tuition. Payment in full is required 8 days before your scheduled event. No refunds\, credits\, or exchanges are given for cancellations less than 8 days from your scheduled date\, with full 100% tuition due. No refunds or credits due to mechanical or weather day of the event. Prices are subject to change without notice. Sorry\, but some restrictions may apply. \nThis is not competition driving; this is a high-speed driving school\, on a racetrack\, under close supervision by instructors. While the overriding consideration during the operation of the event is safety\, incidents may occur that could cause vehicle damage and/or personal injury. You will be driving in a class session with other students and instructors whose vehicles may be uninsured and/or unregistered.
URL:https://proformanceracingschool.com/event/lapping-day-high-performance-sport-lapping-all-day-or-1-2-day-option-3/
LOCATION:Pacific Raceways\, 31001 144th Ave SE\, Kent\, WA\, 98042\, United States
CATEGORIES:All Day Lapping,AM High Performance Lapping,High Performance Sport Lapping with Coaching,PM High Performance Lapping,Special Event
ATTACH;FMTTYPE=image/jpeg:https://proformanceracingschool.com/wp-content/uploads/2025/11/Karln-15-scaled.jpg
ORGANIZER;CN="ProFormance Racing School":MAILTO:donna@proformanceracingschool.com
GEO:47.322243;-122.149386
X-APPLE-STRUCTURED-LOCATION;VALUE=URI;X-ADDRESS=Pacific Raceways 31001 144th Ave SE Kent WA 98042 United States;X-APPLE-RADIUS=500;X-TITLE=31001 144th Ave SE:geo:-122.149386,47.322243
END:VEVENT
BEGIN:VEVENT
DTSTART;TZID=America/Los_Angeles:20260821T080000
DTEND;TZID=America/Los_Angeles:20260821T160000
DTSTAMP:20260424T053310
CREATED:20260114T025446Z
LAST-MODIFIED:20260411T010444Z
UID:10002163-1787299200-1787328000@proformanceracingschool.com
SUMMARY:Lapping Day - High Performance Sport Lapping All Day or 1/2 Day Option
DESCRIPTION:AM High Performance Sport Lapping\n\nPrerequisite: Lapping day at Pacific Raceways or equivalent in the past year. Must hold a ProFormance Solo Sport Driving License or have equivalent experience at Pacific Raceways; contact us to verify if your experience qualifies. \n\n\n\n\nCheck in: 8:00 am\nDrivers Meeting: 8:30 am\nOn-Track Lapping: 9:00 am to 12:00 pm\n\n\n\n\n\n\nCost: $299.00\n\nNote: 45 minutes’ coaching is required for all students who are back for the first time from the One-Day High Performance Driving Experience or equivalent. This is an additional $150.00 for a 45-minute session (making your order total $449.00). Our helmets are available for your use free of charge during your solo upgrade session. \n\n\n\n\nPM High Performance Sport Lapping\n\n\n\nPrerequisite: Lapping day at Pacific Raceways or equivalent in the past year. Must hold a ProFormance Solo Sport Driving License or have equivalent experience at Pacific Raceways; contact us to verify if your experience qualifies. \n\nCheck in: 11:30 am\nDrivers Meeting: 12:00 pm\nOn-Track Lapping: 12:30 pm to 4:00 pm\n\nCost: $299.00\n\nNote: 45 minutes’ coaching is required for all students who are back for the first time from the One-Day High Performance Driving Experience or equivalent. This is an additional $150.00 for a 45-minute session (making your order total $449.00). Our helmets are available for your use free of charge during your solo upgrade session. \n\n\n\n\n\n\nFull Day High Performance Sport Lapping\n\n\n\n\n\n\nPrerequisite: Lapping day at Pacific Raceways or equivalent in the past year. Must hold a ProFormance Solo Sport Driving License or have equivalent experience at Pacific Raceways; contact us to verify if your experience qualifies. \n\nCheck in: 8:00 am\nDrivers Meeting: 8:30 am\nOn-Track Lapping: 9:00 am to 4:00 pm (lunch break between 12:00 pm to 12:30 pm)\n\nCost: $419.00\n\n\n\n\n\n\n\nRACE GROUP\, OPEN PASSING\n\n\n\n\n\n\nPrerequisite: Have a valid race license issued from ICSCC\, SCCA\, or SOVREN. This group is limited to closed wheel racecars. Open passing will be available in all parts of the track. All safety equipment maintdated by your race license’s sanctioning body is required to be worn. Please contact us to verify if your experience qualifies or if you have further clarifying questions. \n\nCheck in: 8:00 am\nDrivers Meeting: 8:30 am\nOn-Track Driving: 9:00 am to 4:00 pm (lunch break between 12:00 pm to 12:30 pm)\n\nCost: $419.00\n\n\n\n \n\n\n\n\n\n\nTo learn more about highlights of driving guidelines to be covered in our meeting\, logbooks\, pre-lapping checklist\, and Solo Sport Driving License\, please visit our Lapping Session page. \n\n\n\n\n\n\n\n\n\nCancellations: We require 8 days’ notice for cancellation. Failure to notify our office\, either by call\, email\, or text\, before 8 days from your scheduled date\, will result in forfeiture of tuition. Payment in full is required 8 days before your scheduled event. No refunds\, credits\, or exchanges are given for cancellations less than 8 days from your scheduled date\, with full 100% tuition due. No refunds or credits due to mechanical or weather day of the event. Prices are subject to change without notice. Sorry\, but some restrictions may apply. \nThis is not competition driving; this is a high-speed driving school\, on a racetrack\, under close supervision by instructors. While the overriding consideration during the operation of the event is safety\, incidents may occur that could cause vehicle damage and/or personal injury. You will be driving in a class session with other students and instructors whose vehicles may be uninsured and/or unregistered.
URL:https://proformanceracingschool.com/event/lapping-day-high-performance-sport-lapping-all-day-or-1-2-day-option-4/
LOCATION:Pacific Raceways\, 31001 144th Ave SE\, Kent\, WA\, 98042\, United States
CATEGORIES:All Day Lapping,AM High Performance Lapping,High Performance Sport Lapping with Coaching,PM High Performance Lapping,Special Event
ATTACH;FMTTYPE=image/jpeg:https://proformanceracingschool.com/wp-content/uploads/2025/11/Karln-15-scaled.jpg
ORGANIZER;CN="ProFormance Racing School":MAILTO:donna@proformanceracingschool.com
GEO:47.322243;-122.149386
X-APPLE-STRUCTURED-LOCATION;VALUE=URI;X-ADDRESS=Pacific Raceways 31001 144th Ave SE Kent WA 98042 United States;X-APPLE-RADIUS=500;X-TITLE=31001 144th Ave SE:geo:-122.149386,47.322243
END:VEVENT
BEGIN:VEVENT
DTSTART;TZID=America/Los_Angeles:20260918T080000
DTEND;TZID=America/Los_Angeles:20260918T170000
DTSTAMP:20260424T053310
CREATED:20260115T004907Z
LAST-MODIFIED:20260115T004907Z
UID:10002182-1789718400-1789750800@proformanceracingschool.com
SUMMARY:Lapping Day - High Performance Sport Lapping All Day or 1/2 Day Option
DESCRIPTION:AM High Performance Sport Lapping\n\nPrerequisite: Lapping day at Pacific Raceways or equivalent in the past year. Must hold a ProFormance Solo Sport Driving License or have equivalent experience at Pacific Raceways; contact us to verify if your experience qualifies. \n\n\n\n\nCheck in: 8:00 am\nDrivers Meeting: 8:30 am\nOn-Track Lapping: 9:00 am to 12:00 pm\n\n\n\n\n\n\nCost: $299.00\n\nNote: 45 minutes’ coaching is required for all students who are back for the first time from the One-Day High Performance Driving Experience or equivalent. This is an additional $150.00 for a 45-minute session (making your order total $449.00). Our helmets are available for your use free of charge during your solo upgrade session. \n\n\n\n\nPM High Performance Sport Lapping\n\n\n\nPrerequisite: Lapping day at Pacific Raceways or equivalent in the past year. Must hold a ProFormance Solo Sport Driving License or have equivalent experience at Pacific Raceways; contact us to verify if your experience qualifies. \n\nCheck in: 11:30 am\nDrivers Meeting: 12:00 pm\nOn-Track Lapping: 12:30 pm to 5:00 pm\n\nCost: $299.00\n\nNote: 45 minutes’ coaching is required for all students who are back for the first time from the One-Day High Performance Driving Experience or equivalent. This is an additional $150.00 for a 45-minute session (making your order total $449.00). Our helmets are available for your use free of charge during your solo upgrade session. \n\n\n\n\n\n\nFull Day High Performance Sport Lapping\n\n\n\n\n\n\nPrerequisite: Lapping day at Pacific Raceways or equivalent in the past year. Must hold a ProFormance Solo Sport Driving License or have equivalent experience at Pacific Raceways; contact us to verify if your experience qualifies. \n\nCheck in: 8:00 am\nDrivers Meeting: 8:30 am\nOn-Track Lapping: 9:00 am to 5:00 pm (lunch break between 12:00 pm to 12:30 pm)\n\nCost: $419.00\n\n\n\n\n \n\n\n\n\n\n\nTo learn more about highlights of driving guidelines to be covered in our meeting\, logbooks\, pre-lapping checklist\, and Solo Sport Driving License\, please visit our Lapping Session page. \n\n\n\n\n\n\n\n\n\nCancellations: We require 8 days’ notice for cancellation. Failure to notify our office\, either by call\, email\, or text\, before 8 days from your scheduled date\, will result in forfeiture of tuition. Payment in full is required 8 days before your scheduled event. No refunds\, credits\, or exchanges are given for cancellations less than 8 days from your scheduled date\, with full 100% tuition due. No refunds or credits due to mechanical or weather day of the event. Prices are subject to change without notice. Sorry\, but some restrictions may apply. \nThis is not competition driving; this is a high-speed driving school\, on a racetrack\, under close supervision by instructors. While the overriding consideration during the operation of the event is safety\, incidents may occur that could cause vehicle damage and/or personal injury. You will be driving in a class session with other students and instructors whose vehicles may be uninsured and/or unregistered.
URL:https://proformanceracingschool.com/event/lapping-day-high-performance-sport-lapping-all-day-or-1-2-day-option-5/
LOCATION:Pacific Raceways\, 31001 144th Ave SE\, Kent\, WA\, 98042\, United States
CATEGORIES:All Day Lapping,AM High Performance Lapping,High Performance Sport Lapping with Coaching,PM High Performance Lapping,Special Event
ATTACH;FMTTYPE=image/jpeg:https://proformanceracingschool.com/wp-content/uploads/2025/11/Karln-15-scaled.jpg
ORGANIZER;CN="ProFormance Racing School":MAILTO:donna@proformanceracingschool.com
GEO:47.322243;-122.149386
X-APPLE-STRUCTURED-LOCATION;VALUE=URI;X-ADDRESS=Pacific Raceways 31001 144th Ave SE Kent WA 98042 United States;X-APPLE-RADIUS=500;X-TITLE=31001 144th Ave SE:geo:-122.149386,47.322243
END:VEVENT
BEGIN:VEVENT
DTSTART;TZID=America/Los_Angeles:20261011T080000
DTEND;TZID=America/Los_Angeles:20261011T170000
DTSTAMP:20260424T053310
CREATED:20260115T225722Z
LAST-MODIFIED:20260115T225722Z
UID:10002200-1791705600-1791738000@proformanceracingschool.com
SUMMARY:Lapping Day - High Performance Sport Lapping All Day or 1/2 Day Option
DESCRIPTION:AM High Performance Sport Lapping\n\nPrerequisite: Lapping day at Pacific Raceways or equivalent in the past year. Must hold a ProFormance Solo Sport Driving License or have equivalent experience at Pacific Raceways; contact us to verify if your experience qualifies. \n\n\n\n\nCheck in: 8:00 am\nDrivers Meeting: 8:30 am\nOn-Track Lapping: 9:00 am to 12:00 pm\n\n\n\n\n\n\nCost: $299.00\n\nNote: 45 minutes’ coaching is required for all students who are back for the first time from the One-Day High Performance Driving Experience or equivalent. This is an additional $150.00 for a 45-minute session (making your order total $449.00). Our helmets are available for your use free of charge during your solo upgrade session. \n\n\n\n\nPM High Performance Sport Lapping\n\n\n\nPrerequisite: Lapping day at Pacific Raceways or equivalent in the past year. Must hold a ProFormance Solo Sport Driving License or have equivalent experience at Pacific Raceways; contact us to verify if your experience qualifies. \n\nCheck in: 11:30 am\nDrivers Meeting: 12:00 pm\nOn-Track Lapping: 12:30 pm to 5:00 pm\n\nCost: $299.00\n\nNote: 45 minutes’ coaching is required for all students who are back for the first time from the One-Day High Performance Driving Experience or equivalent. This is an additional $150.00 for a 45-minute session (making your order total $449.00). Our helmets are available for your use free of charge during your solo upgrade session. \n\n\n\n\n\n\nFull Day High Performance Sport Lapping\n\n\n\n\n\n\nPrerequisite: Lapping day at Pacific Raceways or equivalent in the past year. Must hold a ProFormance Solo Sport Driving License or have equivalent experience at Pacific Raceways; contact us to verify if your experience qualifies. \n\nCheck in: 8:00 am\nDrivers Meeting: 8:30 am\nOn-Track Lapping: 9:00 am to 5:00 pm (lunch break between 12:00 pm to 12:30 pm)\n\nCost: $419.00\n\n\n\n\n \n\n\n\n\n\n\nTo learn more about highlights of driving guidelines to be covered in our meeting\, logbooks\, pre-lapping checklist\, and Solo Sport Driving License\, please visit our Lapping Session page. \n\n\n\n\n\n\n\n\n\nCancellations: We require 8 days’ notice for cancellation. Failure to notify our office\, either by call\, email\, or text\, before 8 days from your scheduled date\, will result in forfeiture of tuition. Payment in full is required 8 days before your scheduled event. No refunds\, credits\, or exchanges are given for cancellations less than 8 days from your scheduled date\, with full 100% tuition due. No refunds or credits due to mechanical or weather day of the event. Prices are subject to change without notice. Sorry\, but some restrictions may apply. \nThis is not competition driving; this is a high-speed driving school\, on a racetrack\, under close supervision by instructors. While the overriding consideration during the operation of the event is safety\, incidents may occur that could cause vehicle damage and/or personal injury. You will be driving in a class session with other students and instructors whose vehicles may be uninsured and/or unregistered.
URL:https://proformanceracingschool.com/event/lapping-day-high-performance-sport-lapping-all-day-or-1-2-day-option-6/
LOCATION:Pacific Raceways\, 31001 144th Ave SE\, Kent\, WA\, 98042\, United States
CATEGORIES:All Day Lapping,AM High Performance Lapping,High Performance Sport Lapping with Coaching,PM High Performance Lapping,Special Event
ATTACH;FMTTYPE=image/jpeg:https://proformanceracingschool.com/wp-content/uploads/2025/11/Karln-15-scaled.jpg
ORGANIZER;CN="ProFormance Racing School":MAILTO:donna@proformanceracingschool.com
GEO:47.322243;-122.149386
X-APPLE-STRUCTURED-LOCATION;VALUE=URI;X-ADDRESS=Pacific Raceways 31001 144th Ave SE Kent WA 98042 United States;X-APPLE-RADIUS=500;X-TITLE=31001 144th Ave SE:geo:-122.149386,47.322243
END:VEVENT
END:VCALENDAR