BEGIN:VCALENDAR
VERSION:2.0
PRODID:-//ProFormance Racing School - ECPv6.15.20//NONSGML v1.0//EN
CALSCALE:GREGORIAN
METHOD:PUBLISH
X-WR-CALNAME:ProFormance Racing School
X-ORIGINAL-URL:https://proformanceracingschool.com
X-WR-CALDESC:Events for ProFormance Racing School
REFRESH-INTERVAL;VALUE=DURATION:PT1H
X-Robots-Tag:noindex
X-PUBLISHED-TTL:PT1H
BEGIN:VTIMEZONE
TZID:America/Los_Angeles
BEGIN:DAYLIGHT
TZOFFSETFROM:-0800
TZOFFSETTO:-0700
TZNAME:PDT
DTSTART:20250309T100000
END:DAYLIGHT
BEGIN:STANDARD
TZOFFSETFROM:-0700
TZOFFSETTO:-0800
TZNAME:PST
DTSTART:20251102T090000
END:STANDARD
BEGIN:DAYLIGHT
TZOFFSETFROM:-0800
TZOFFSETTO:-0700
TZNAME:PDT
DTSTART:20260308T100000
END:DAYLIGHT
BEGIN:STANDARD
TZOFFSETFROM:-0700
TZOFFSETTO:-0800
TZNAME:PST
DTSTART:20261101T090000
END:STANDARD
BEGIN:DAYLIGHT
TZOFFSETFROM:-0800
TZOFFSETTO:-0700
TZNAME:PDT
DTSTART:20270314T100000
END:DAYLIGHT
BEGIN:STANDARD
TZOFFSETFROM:-0700
TZOFFSETTO:-0800
TZNAME:PST
DTSTART:20271107T090000
END:STANDARD
END:VTIMEZONE
BEGIN:VEVENT
DTSTART;TZID=America/Los_Angeles:20260805T120000
DTEND;TZID=America/Los_Angeles:20260805T160000
DTSTAMP:20260421T011138
CREATED:20260114T013041Z
LAST-MODIFIED:20260114T013041Z
UID:10002148-1785931200-1785945600@proformanceracingschool.com
SUMMARY:PM High Performance Sport Lapping
DESCRIPTION:PM High Performance Sport Lapping\n\nPrerequisite: Lapping day at Pacific Raceways or equivalent in the past year. Must hold a ProFormance Solo Sport Driving License or have equivalent experience at Pacific Raceways; contact us to verify if your experience qualifies. \n\nCheck in: 11:30 am\nDrivers Meeting: 11:45 am\nFull Afternoon On-Track Lapping: 12:30 pm to 4:00 pm\n\n\n\n\n\n\n\nCost: $299.00\n\n\nPM High Performance Sport Lapping with Coaching\n\nPrerequisite: ProFormance’s One-Day High Performance Driving Experience at Pacific Raceways or equivalent in the past year. \n\nCheck in: 11:30 am\nDrivers Meeting: 11:45 am\nCoaching: 12:30 pm to 1:15 pm\nFull Afternoon On-Track Lapping: 12:30 pm to 4:00 pm\n\n\nCost: $449.00\n(This price includes PM High Performance Sport Lapping ($299.00) and 45 minutes of coaching for your Solo Sport Driving License ($150.00)) \n\n\nNote: Our helmets are available for your use during your solo upgrade session. \n\n\n\n\n\n \nPower Lunch Sport Lapping\n\nShort on time? PM High Performance Sport Lapping sold out? Consider our Power Lunch Sport Lapping. \nPrerequisite: Lapping day at Pacific Raceways or equivalent in the past year. Must hold a ProFormance Solo Sport Driving License or have equivalent experience at Pacific Raceways; contact us to verify if your experience qualifies. \n\nCheck in: 11:30 am\nDrivers Meeting: 11:45 am\nPower Lunch Lapping: 12:30 pm to 1:30 pm\n\n\nCost: $199.00\n\nNote: Solo upgrades and coaching are not available for Power Lunch Sport Lapping drivers. \n\n\n\n\nTo learn more about highlights of driving guidelines to be covered in our meeting\, logbooks\, pre-lapping checklist\, and Solo Sport Driving License\, please visit our Lapping Session page. \n\n\n\n\n\n\n\n\n\nCancellations: We require 8 days’ notice for cancellation. Failure to notify our office\, either by call\, email\, or text\, before 8 days from your scheduled date\, will result in forfeiture of tuition. Payment in full is required 8 days before your scheduled event. No refunds\, credits\, or exchanges are given for cancellations less than 8 days from your scheduled date\, with full 100% tuition due. No refunds or credits due to mechanical or weather day of the event. Prices are subject to change without notice. Sorry\, but some restrictions may apply. \nThis is not competition driving; this is a high-speed driving school\, on a racetrack\, under close supervision by instructors. While the overriding consideration during the operation of the event is safety\, incidents may occur that could cause vehicle damage and/or personal injury. You will be driving in a class session with other students and instructors whose vehicles may be uninsured and/or unregistered.
URL:https://proformanceracingschool.com/event/pm-high-performance-sport-lapping-118/
LOCATION:Pacific Raceways\, 31001 144th Ave SE\, Kent\, WA\, 98042\, United States
CATEGORIES:High Performance Sport Lapping with Coaching,PM High Performance Lapping,Power Lunch
ATTACH;FMTTYPE=image/jpeg:https://proformanceracingschool.com/wp-content/uploads/2022/11/lapday-e1752603833896.jpg
ORGANIZER;CN="ProFormance Racing School":MAILTO:donna@proformanceracingschool.com
GEO:47.322243;-122.149386
X-APPLE-STRUCTURED-LOCATION;VALUE=URI;X-ADDRESS=Pacific Raceways 31001 144th Ave SE Kent WA 98042 United States;X-APPLE-RADIUS=500;X-TITLE=31001 144th Ave SE:geo:-122.149386,47.322243
END:VEVENT
BEGIN:VEVENT
DTSTART;TZID=America/Los_Angeles:20260806T120000
DTEND;TZID=America/Los_Angeles:20260806T170000
DTSTAMP:20260421T011138
CREATED:20260114T014237Z
LAST-MODIFIED:20260114T014237Z
UID:10002152-1786017600-1786035600@proformanceracingschool.com
SUMMARY:PM High Performance Sport Lapping
DESCRIPTION:PM High Performance Sport Lapping\n\nPrerequisite: Lapping day at Pacific Raceways or equivalent in the past year. Must hold a ProFormance Solo Sport Driving License or have equivalent experience at Pacific Raceways; contact us to verify if your experience qualifies. \n\nCheck in: 11:30 am\nDrivers Meeting: 11:45 am\nFull Afternoon On-Track Lapping: 12:30 pm to 5:00 pm\n\n\n\n\n\n\n\nCost: $299.00\n\n\nPM High Performance Sport Lapping with Coaching\n\nPrerequisite: ProFormance’s One-Day High Performance Driving Experience at Pacific Raceways or equivalent in the past year. \n\nCheck in: 11:30 am\nDrivers Meeting: 11:45 am\nCoaching: 12:30 pm to 1:15 pm\nFull Afternoon On-Track Lapping: 12:30 pm to 5:00 pm\n\n\nCost: $449.00\n(This price includes PM High Performance Sport Lapping ($299.00) and 45 minutes of coaching for your Solo Sport Driving License ($150.00)) \n\n\nNote: Our helmets are available for your use during your solo upgrade session. \n\n\n\n\n\n \nPower Lunch Sport Lapping\n\nShort on time? PM High Performance Sport Lapping sold out? Consider our Power Lunch Sport Lapping. \nPrerequisite: Lapping day at Pacific Raceways or equivalent in the past year. Must hold a ProFormance Solo Sport Driving License or have equivalent experience at Pacific Raceways; contact us to verify if your experience qualifies. \n\nCheck in: 11:30 am\nDrivers Meeting: 11:45 am\nPower Lunch Lapping: 12:30 pm to 1:30 pm\n\n\nCost: $199.00\n\nNote: Solo upgrades and coaching are not available for Power Lunch Sport Lapping drivers. \n\n\n\n\nTo learn more about highlights of driving guidelines to be covered in our meeting\, logbooks\, pre-lapping checklist\, and Solo Sport Driving License\, please visit our Lapping Session page. \n\n\n\n\n\n\n\n\n\nCancellations: We require 8 days’ notice for cancellation. Failure to notify our office\, either by call\, email\, or text\, before 8 days from your scheduled date\, will result in forfeiture of tuition. Payment in full is required 8 days before your scheduled event. No refunds\, credits\, or exchanges are given for cancellations less than 8 days from your scheduled date\, with full 100% tuition due. No refunds or credits due to mechanical or weather day of the event. Prices are subject to change without notice. Sorry\, but some restrictions may apply. \nThis is not competition driving; this is a high-speed driving school\, on a racetrack\, under close supervision by instructors. While the overriding consideration during the operation of the event is safety\, incidents may occur that could cause vehicle damage and/or personal injury. You will be driving in a class session with other students and instructors whose vehicles may be uninsured and/or unregistered.
URL:https://proformanceracingschool.com/event/pm-high-performance-sport-lapping-119/
LOCATION:Pacific Raceways\, 31001 144th Ave SE\, Kent\, WA\, 98042\, United States
CATEGORIES:High Performance Sport Lapping with Coaching,PM High Performance Lapping,Power Lunch
ATTACH;FMTTYPE=image/jpeg:https://proformanceracingschool.com/wp-content/uploads/2022/11/lapday-e1752603833896.jpg
ORGANIZER;CN="ProFormance Racing School":MAILTO:donna@proformanceracingschool.com
GEO:47.322243;-122.149386
X-APPLE-STRUCTURED-LOCATION;VALUE=URI;X-ADDRESS=Pacific Raceways 31001 144th Ave SE Kent WA 98042 United States;X-APPLE-RADIUS=500;X-TITLE=31001 144th Ave SE:geo:-122.149386,47.322243
END:VEVENT
BEGIN:VEVENT
DTSTART;TZID=America/Los_Angeles:20260812T120000
DTEND;TZID=America/Los_Angeles:20260812T160000
DTSTAMP:20260421T011138
CREATED:20260114T014926Z
LAST-MODIFIED:20260114T020218Z
UID:10002154-1786536000-1786550400@proformanceracingschool.com
SUMMARY:PM High Performance Sport Lapping
DESCRIPTION:PM High Performance Sport Lapping\n\nPrerequisite: Lapping day at Pacific Raceways or equivalent in the past year. Must hold a ProFormance Solo Sport Driving License or have equivalent experience at Pacific Raceways; contact us to verify if your experience qualifies. \n\nCheck in: 11:30 am\nDrivers Meeting: 11:45 am\nFull Afternoon On-Track Lapping: 12:30 pm to 4:00 pm\n\n\n\n\n\n\n\nCost: $299.00\n\n\nPM High Performance Sport Lapping with Coaching\n\nPrerequisite: ProFormance’s One-Day High Performance Driving Experience at Pacific Raceways or equivalent in the past year. \n\nCheck in: 11:30 am\nDrivers Meeting: 11:45 am\nCoaching: 12:30 pm to 1:15 pm\nFull Afternoon On-Track Lapping: 12:30 pm to 4:00 pm\n\n\nCost: $449.00\n(This price includes PM High Performance Sport Lapping ($299.00) and 45 minutes of coaching for your Solo Sport Driving License ($150.00)) \n\n\nNote: Our helmets are available for your use during your solo upgrade session. \n\n\n\n\n\n \nPower Lunch Sport Lapping\n\nShort on time? PM High Performance Sport Lapping sold out? Consider our Power Lunch Sport Lapping. \nPrerequisite: Lapping day at Pacific Raceways or equivalent in the past year. Must hold a ProFormance Solo Sport Driving License or have equivalent experience at Pacific Raceways; contact us to verify if your experience qualifies. \n\nCheck in: 11:30 am\nDrivers Meeting: 11:45 am\nPower Lunch Lapping: 12:30 pm to 1:30 pm\n\n\nCost: $199.00\n\nNote: Solo upgrades and coaching are not available for Power Lunch Sport Lapping drivers. \n\n\n\n\nTo learn more about highlights of driving guidelines to be covered in our meeting\, logbooks\, pre-lapping checklist\, and Solo Sport Driving License\, please visit our Lapping Session page. \n\n\n\n\n\n\n\n\n\nCancellations: We require 8 days’ notice for cancellation. Failure to notify our office\, either by call\, email\, or text\, before 8 days from your scheduled date\, will result in forfeiture of tuition. Payment in full is required 8 days before your scheduled event. No refunds\, credits\, or exchanges are given for cancellations less than 8 days from your scheduled date\, with full 100% tuition due. No refunds or credits due to mechanical or weather day of the event. Prices are subject to change without notice. Sorry\, but some restrictions may apply. \nThis is not competition driving; this is a high-speed driving school\, on a racetrack\, under close supervision by instructors. While the overriding consideration during the operation of the event is safety\, incidents may occur that could cause vehicle damage and/or personal injury. You will be driving in a class session with other students and instructors whose vehicles may be uninsured and/or unregistered.
URL:https://proformanceracingschool.com/event/pm-high-performance-sport-lapping-120/
LOCATION:Pacific Raceways\, 31001 144th Ave SE\, Kent\, WA\, 98042\, United States
CATEGORIES:High Performance Sport Lapping with Coaching,PM High Performance Lapping,Power Lunch
ATTACH;FMTTYPE=image/jpeg:https://proformanceracingschool.com/wp-content/uploads/2022/11/lapday-e1752603833896.jpg
ORGANIZER;CN="ProFormance Racing School":MAILTO:donna@proformanceracingschool.com
GEO:47.322243;-122.149386
X-APPLE-STRUCTURED-LOCATION;VALUE=URI;X-ADDRESS=Pacific Raceways 31001 144th Ave SE Kent WA 98042 United States;X-APPLE-RADIUS=500;X-TITLE=31001 144th Ave SE:geo:-122.149386,47.322243
END:VEVENT
BEGIN:VEVENT
DTSTART;TZID=America/Los_Angeles:20260819T120000
DTEND;TZID=America/Los_Angeles:20260819T160000
DTSTAMP:20260421T011138
CREATED:20260114T024005Z
LAST-MODIFIED:20260114T024005Z
UID:10002159-1787140800-1787155200@proformanceracingschool.com
SUMMARY:PM High Performance Sport Lapping
DESCRIPTION:PM High Performance Sport Lapping\n\nPrerequisite: Lapping day at Pacific Raceways or equivalent in the past year. Must hold a ProFormance Solo Sport Driving License or have equivalent experience at Pacific Raceways; contact us to verify if your experience qualifies. \n\nCheck in: 11:30 am\nDrivers Meeting: 11:45 am\nFull Afternoon On-Track Lapping: 12:30 pm to 4:00 pm\n\n\n\n\n\n\n\nCost: $299.00\n\n\nPM High Performance Sport Lapping with Coaching\n\nPrerequisite: ProFormance’s One-Day High Performance Driving Experience at Pacific Raceways or equivalent in the past year. \n\nCheck in: 11:30 am\nDrivers Meeting: 11:45 am\nCoaching: 12:30 pm to 1:15 pm\nFull Afternoon On-Track Lapping: 12:30 pm to 4:00 pm\n\n\nCost: $449.00\n(This price includes PM High Performance Sport Lapping ($299.00) and 45 minutes of coaching for your Solo Sport Driving License ($150.00)) \n\n\nNote: Our helmets are available for your use during your solo upgrade session. \n\n\n\n\n\n \nPower Lunch Sport Lapping\n\nShort on time? PM High Performance Sport Lapping sold out? Consider our Power Lunch Sport Lapping. \nPrerequisite: Lapping day at Pacific Raceways or equivalent in the past year. Must hold a ProFormance Solo Sport Driving License or have equivalent experience at Pacific Raceways; contact us to verify if your experience qualifies. \n\nCheck in: 11:30 am\nDrivers Meeting: 11:45 am\nPower Lunch Lapping: 12:30 pm to 1:30 pm\n\n\nCost: $199.00\n\nNote: Solo upgrades and coaching are not available for Power Lunch Sport Lapping drivers. \n\n\n\n\nTo learn more about highlights of driving guidelines to be covered in our meeting\, logbooks\, pre-lapping checklist\, and Solo Sport Driving License\, please visit our Lapping Session page. \n\n\n\n\n\n\n\n\n\nCancellations: We require 8 days’ notice for cancellation. Failure to notify our office\, either by call\, email\, or text\, before 8 days from your scheduled date\, will result in forfeiture of tuition. Payment in full is required 8 days before your scheduled event. No refunds\, credits\, or exchanges are given for cancellations less than 8 days from your scheduled date\, with full 100% tuition due. No refunds or credits due to mechanical or weather day of the event. Prices are subject to change without notice. Sorry\, but some restrictions may apply. \nThis is not competition driving; this is a high-speed driving school\, on a racetrack\, under close supervision by instructors. While the overriding consideration during the operation of the event is safety\, incidents may occur that could cause vehicle damage and/or personal injury. You will be driving in a class session with other students and instructors whose vehicles may be uninsured and/or unregistered.
URL:https://proformanceracingschool.com/event/pm-high-performance-sport-lapping-121/
LOCATION:Pacific Raceways\, 31001 144th Ave SE\, Kent\, WA\, 98042\, United States
CATEGORIES:High Performance Sport Lapping with Coaching,PM High Performance Lapping,Power Lunch
ATTACH;FMTTYPE=image/jpeg:https://proformanceracingschool.com/wp-content/uploads/2022/11/lapday-e1752603833896.jpg
ORGANIZER;CN="ProFormance Racing School":MAILTO:donna@proformanceracingschool.com
GEO:47.322243;-122.149386
X-APPLE-STRUCTURED-LOCATION;VALUE=URI;X-ADDRESS=Pacific Raceways 31001 144th Ave SE Kent WA 98042 United States;X-APPLE-RADIUS=500;X-TITLE=31001 144th Ave SE:geo:-122.149386,47.322243
END:VEVENT
BEGIN:VEVENT
DTSTART;TZID=America/Los_Angeles:20260820T120000
DTEND;TZID=America/Los_Angeles:20260820T170000
DTSTAMP:20260421T011138
CREATED:20260114T024830Z
LAST-MODIFIED:20260114T024830Z
UID:10002162-1787227200-1787245200@proformanceracingschool.com
SUMMARY:PM High Performance Sport Lapping
DESCRIPTION:PM High Performance Sport Lapping\n\nPrerequisite: Lapping day at Pacific Raceways or equivalent in the past year. Must hold a ProFormance Solo Sport Driving License or have equivalent experience at Pacific Raceways; contact us to verify if your experience qualifies. \n\nCheck in: 11:30 am\nDrivers Meeting: 11:45 am\nFull Afternoon On-Track Lapping: 12:30 pm to 5:00 pm\n\n\n\n\n\n\n\nCost: $299.00\n\n\nPM High Performance Sport Lapping with Coaching\n\nPrerequisite: ProFormance’s One-Day High Performance Driving Experience at Pacific Raceways or equivalent in the past year. \n\nCheck in: 11:30 am\nDrivers Meeting: 11:45 am\nCoaching: 12:30 pm to 1:15 pm\nFull Afternoon On-Track Lapping: 12:30 pm to 5:00 pm\n\n\nCost: $449.00\n(This price includes PM High Performance Sport Lapping ($299.00) and 45 minutes of coaching for your Solo Sport Driving License ($150.00)) \n\n\nNote: Our helmets are available for your use during your solo upgrade session. \n\n\n\n\n\n \nPower Lunch Sport Lapping\n\nShort on time? PM High Performance Sport Lapping sold out? Consider our Power Lunch Sport Lapping. \nPrerequisite: Lapping day at Pacific Raceways or equivalent in the past year. Must hold a ProFormance Solo Sport Driving License or have equivalent experience at Pacific Raceways; contact us to verify if your experience qualifies. \n\nCheck in: 11:30 am\nDrivers Meeting: 11:45 am\nPower Lunch Lapping: 12:30 pm to 1:30 pm\n\n\nCost: $199.00\n\nNote: Solo upgrades and coaching are not available for Power Lunch Sport Lapping drivers. \n\n\n\n\nTo learn more about highlights of driving guidelines to be covered in our meeting\, logbooks\, pre-lapping checklist\, and Solo Sport Driving License\, please visit our Lapping Session page. \n\n\n\n\n\n\n\n\n\nCancellations: We require 8 days’ notice for cancellation. Failure to notify our office\, either by call\, email\, or text\, before 8 days from your scheduled date\, will result in forfeiture of tuition. Payment in full is required 8 days before your scheduled event. No refunds\, credits\, or exchanges are given for cancellations less than 8 days from your scheduled date\, with full 100% tuition due. No refunds or credits due to mechanical or weather day of the event. Prices are subject to change without notice. Sorry\, but some restrictions may apply. \nThis is not competition driving; this is a high-speed driving school\, on a racetrack\, under close supervision by instructors. While the overriding consideration during the operation of the event is safety\, incidents may occur that could cause vehicle damage and/or personal injury. You will be driving in a class session with other students and instructors whose vehicles may be uninsured and/or unregistered.
URL:https://proformanceracingschool.com/event/pm-high-performance-sport-lapping-122/
LOCATION:Pacific Raceways\, 31001 144th Ave SE\, Kent\, WA\, 98042\, United States
CATEGORIES:High Performance Sport Lapping with Coaching,PM High Performance Lapping,Power Lunch
ATTACH;FMTTYPE=image/jpeg:https://proformanceracingschool.com/wp-content/uploads/2022/11/lapday-e1752603833896.jpg
ORGANIZER;CN="ProFormance Racing School":MAILTO:donna@proformanceracingschool.com
GEO:47.322243;-122.149386
X-APPLE-STRUCTURED-LOCATION;VALUE=URI;X-ADDRESS=Pacific Raceways 31001 144th Ave SE Kent WA 98042 United States;X-APPLE-RADIUS=500;X-TITLE=31001 144th Ave SE:geo:-122.149386,47.322243
END:VEVENT
BEGIN:VEVENT
DTSTART;TZID=America/Los_Angeles:20260826T120000
DTEND;TZID=America/Los_Angeles:20260826T160000
DTSTAMP:20260421T011138
CREATED:20260114T030611Z
LAST-MODIFIED:20260114T030611Z
UID:10002166-1787745600-1787760000@proformanceracingschool.com
SUMMARY:PM High Performance Sport Lapping
DESCRIPTION:PM High Performance Sport Lapping\n\nPrerequisite: Lapping day at Pacific Raceways or equivalent in the past year. Must hold a ProFormance Solo Sport Driving License or have equivalent experience at Pacific Raceways; contact us to verify if your experience qualifies. \n\nCheck in: 11:30 am\nDrivers Meeting: 11:45 am\nFull Afternoon On-Track Lapping: 12:30 pm to 4:00 pm\n\n\n\n\n\n\n\nCost: $299.00\n\n\nPM High Performance Sport Lapping with Coaching\n\nPrerequisite: ProFormance’s One-Day High Performance Driving Experience at Pacific Raceways or equivalent in the past year. \n\nCheck in: 11:30 am\nDrivers Meeting: 11:45 am\nCoaching: 12:30 pm to 1:15 pm\nFull Afternoon On-Track Lapping: 12:30 pm to 4:00 pm\n\n\nCost: $449.00\n(This price includes PM High Performance Sport Lapping ($299.00) and 45 minutes of coaching for your Solo Sport Driving License ($150.00)) \n\n\nNote: Our helmets are available for your use during your solo upgrade session. \n\n\n\n\n\n \nPower Lunch Sport Lapping\n\nShort on time? PM High Performance Sport Lapping sold out? Consider our Power Lunch Sport Lapping. \nPrerequisite: Lapping day at Pacific Raceways or equivalent in the past year. Must hold a ProFormance Solo Sport Driving License or have equivalent experience at Pacific Raceways; contact us to verify if your experience qualifies. \n\nCheck in: 11:30 am\nDrivers Meeting: 11:45 am\nPower Lunch Lapping: 12:30 pm to 1:30 pm\n\n\nCost: $199.00\n\nNote: Solo upgrades and coaching are not available for Power Lunch Sport Lapping drivers. \n\n\n\n\nTo learn more about highlights of driving guidelines to be covered in our meeting\, logbooks\, pre-lapping checklist\, and Solo Sport Driving License\, please visit our Lapping Session page. \n\n\n\n\n\n\n\n\n\nCancellations: We require 8 days’ notice for cancellation. Failure to notify our office\, either by call\, email\, or text\, before 8 days from your scheduled date\, will result in forfeiture of tuition. Payment in full is required 8 days before your scheduled event. No refunds\, credits\, or exchanges are given for cancellations less than 8 days from your scheduled date\, with full 100% tuition due. No refunds or credits due to mechanical or weather day of the event. Prices are subject to change without notice. Sorry\, but some restrictions may apply. \nThis is not competition driving; this is a high-speed driving school\, on a racetrack\, under close supervision by instructors. While the overriding consideration during the operation of the event is safety\, incidents may occur that could cause vehicle damage and/or personal injury. You will be driving in a class session with other students and instructors whose vehicles may be uninsured and/or unregistered.
URL:https://proformanceracingschool.com/event/pm-high-performance-sport-lapping-123/
LOCATION:Pacific Raceways\, 31001 144th Ave SE\, Kent\, WA\, 98042\, United States
CATEGORIES:High Performance Sport Lapping with Coaching,PM High Performance Lapping,Power Lunch
ATTACH;FMTTYPE=image/jpeg:https://proformanceracingschool.com/wp-content/uploads/2022/11/lapday-e1752603833896.jpg
ORGANIZER;CN="ProFormance Racing School":MAILTO:donna@proformanceracingschool.com
GEO:47.322243;-122.149386
X-APPLE-STRUCTURED-LOCATION;VALUE=URI;X-ADDRESS=Pacific Raceways 31001 144th Ave SE Kent WA 98042 United States;X-APPLE-RADIUS=500;X-TITLE=31001 144th Ave SE:geo:-122.149386,47.322243
END:VEVENT
BEGIN:VEVENT
DTSTART;TZID=America/Los_Angeles:20260827T120000
DTEND;TZID=America/Los_Angeles:20260827T170000
DTSTAMP:20260421T011138
CREATED:20260114T031526Z
LAST-MODIFIED:20260114T031526Z
UID:10002169-1787832000-1787850000@proformanceracingschool.com
SUMMARY:PM High Performance Sport Lapping
DESCRIPTION:PM High Performance Sport Lapping\n\nPrerequisite: Lapping day at Pacific Raceways or equivalent in the past year. Must hold a ProFormance Solo Sport Driving License or have equivalent experience at Pacific Raceways; contact us to verify if your experience qualifies. \n\nCheck in: 11:30 am\nDrivers Meeting: 11:45 am\nFull Afternoon On-Track Lapping: 12:30 pm to 5:00 pm\n\n\n\n\n\n\n\nCost: $299.00\n\n\nPM High Performance Sport Lapping with Coaching\n\nPrerequisite: ProFormance’s One-Day High Performance Driving Experience at Pacific Raceways or equivalent in the past year. \n\nCheck in: 11:30 am\nDrivers Meeting: 11:45 am\nCoaching: 12:30 pm to 1:15 pm\nFull Afternoon On-Track Lapping: 12:30 pm to 5:00 pm\n\n\nCost: $449.00\n(This price includes PM High Performance Sport Lapping ($299.00) and 45 minutes of coaching for your Solo Sport Driving License ($150.00)) \n\n\nNote: Our helmets are available for your use during your solo upgrade session. \n\n\n\n\n\n \nPower Lunch Sport Lapping\n\nShort on time? PM High Performance Sport Lapping sold out? Consider our Power Lunch Sport Lapping. \nPrerequisite: Lapping day at Pacific Raceways or equivalent in the past year. Must hold a ProFormance Solo Sport Driving License or have equivalent experience at Pacific Raceways; contact us to verify if your experience qualifies. \n\nCheck in: 11:30 am\nDrivers Meeting: 11:45 am\nPower Lunch Lapping: 12:30 pm to 1:30 pm\n\n\nCost: $199.00\n\nNote: Solo upgrades and coaching are not available for Power Lunch Sport Lapping drivers. \n\n\n\n\nTo learn more about highlights of driving guidelines to be covered in our meeting\, logbooks\, pre-lapping checklist\, and Solo Sport Driving License\, please visit our Lapping Session page. \n\n\n\n\n\n\n\n\n\nCancellations: We require 8 days’ notice for cancellation. Failure to notify our office\, either by call\, email\, or text\, before 8 days from your scheduled date\, will result in forfeiture of tuition. Payment in full is required 8 days before your scheduled event. No refunds\, credits\, or exchanges are given for cancellations less than 8 days from your scheduled date\, with full 100% tuition due. No refunds or credits due to mechanical or weather day of the event. Prices are subject to change without notice. Sorry\, but some restrictions may apply. \nThis is not competition driving; this is a high-speed driving school\, on a racetrack\, under close supervision by instructors. While the overriding consideration during the operation of the event is safety\, incidents may occur that could cause vehicle damage and/or personal injury. You will be driving in a class session with other students and instructors whose vehicles may be uninsured and/or unregistered.
URL:https://proformanceracingschool.com/event/pm-high-performance-sport-lapping-124/
LOCATION:Pacific Raceways\, 31001 144th Ave SE\, Kent\, WA\, 98042\, United States
CATEGORIES:High Performance Sport Lapping with Coaching,PM High Performance Lapping,Power Lunch
ATTACH;FMTTYPE=image/jpeg:https://proformanceracingschool.com/wp-content/uploads/2022/11/lapday-e1752603833896.jpg
ORGANIZER;CN="ProFormance Racing School":MAILTO:donna@proformanceracingschool.com
GEO:47.322243;-122.149386
X-APPLE-STRUCTURED-LOCATION;VALUE=URI;X-ADDRESS=Pacific Raceways 31001 144th Ave SE Kent WA 98042 United States;X-APPLE-RADIUS=500;X-TITLE=31001 144th Ave SE:geo:-122.149386,47.322243
END:VEVENT
END:VCALENDAR